BEGIN:VCALENDAR
VERSION:2.0
PRODID:-//Sky Blue Tavern - ECPv6.15.18//NONSGML v1.0//EN
CALSCALE:GREGORIAN
METHOD:PUBLISH
X-ORIGINAL-URL:https://skybluetavern.com
X-WR-CALDESC:Events for Sky Blue Tavern
REFRESH-INTERVAL;VALUE=DURATION:PT1H
X-Robots-Tag:noindex
X-PUBLISHED-TTL:PT1H
BEGIN:VTIMEZONE
TZID:Europe/London
BEGIN:DAYLIGHT
TZOFFSETFROM:+0000
TZOFFSETTO:+0100
TZNAME:BST
DTSTART:20230326T010000
END:DAYLIGHT
BEGIN:STANDARD
TZOFFSETFROM:+0100
TZOFFSETTO:+0000
TZNAME:GMT
DTSTART:20231029T010000
END:STANDARD
BEGIN:DAYLIGHT
TZOFFSETFROM:+0000
TZOFFSETTO:+0100
TZNAME:BST
DTSTART:20240331T010000
END:DAYLIGHT
BEGIN:STANDARD
TZOFFSETFROM:+0100
TZOFFSETTO:+0000
TZNAME:GMT
DTSTART:20241027T010000
END:STANDARD
BEGIN:DAYLIGHT
TZOFFSETFROM:+0000
TZOFFSETTO:+0100
TZNAME:BST
DTSTART:20250330T010000
END:DAYLIGHT
BEGIN:STANDARD
TZOFFSETFROM:+0100
TZOFFSETTO:+0000
TZNAME:GMT
DTSTART:20251026T010000
END:STANDARD
END:VTIMEZONE
BEGIN:VEVENT
DTSTART;TZID=Europe/London:20240406T200000
DTEND;TZID=Europe/London:20240406T200000
DTSTAMP:20260422T173524
CREATED:20230824T125946Z
LAST-MODIFIED:20230824T125946Z
UID:10000716-1712433600-1712433600@skybluetavern.com
SUMMARY:Karaoke & DJ Nights - Every Saturday
DESCRIPTION:Join us at the Sky Blue Tavern every Saturday night for Karaoke with DJ Julian Goode! \n  \n 
URL:https://skybluetavern.com/event/karaoke-dj-nights-every-saturday/2024-04-06/
LOCATION:Sky Blue Tavern\, Hertford Pl\, Coventry\, CV1 3JZ\, United Kingdom
CATEGORIES:Football,Music
ATTACH;FMTTYPE=image/png:https://skybluetavern.com/wp-content/uploads/2023/08/Karaoke-SBT.png
ORGANIZER;CN="Sky Blue Tavern":MAILTO:hello@skybluetavern.com
END:VEVENT
BEGIN:VEVENT
DTSTART;VALUE=DATE:20240409
DTEND;VALUE=DATE:20240410
DTSTAMP:20260422T173524
CREATED:20240516T103044Z
LAST-MODIFIED:20240516T103044Z
UID:10002457-1712620800-1712707199@skybluetavern.com
SUMMARY:Southampton Vs Coventry City Away Day Travel Tuesday 9th April 7:45pm KO
DESCRIPTION:Join us at the Sky Blue Tavern for coach travel as Coventry City take on Southampton \nClick to book \n 
URL:https://skybluetavern.com/event/southampton-vs-coventry-city-away-day-travel-tuesday-9th-april-745pm-ko-2/
LOCATION:Sky Blue Tavern\, Hertford Pl\, Coventry\, CV1 3JZ\, United Kingdom
CATEGORIES:Away Day Travel,Football
ATTACH;FMTTYPE=image/png:https://skybluetavern.com/wp-content/uploads/2022/08/sky-blue-tavern-logo.png
ORGANIZER;CN="Sky Blue Tavern":MAILTO:hello@skybluetavern.com
END:VEVENT
BEGIN:VEVENT
DTSTART;VALUE=DATE:20240413
DTEND;VALUE=DATE:20240414
DTSTAMP:20260422T173524
CREATED:20240516T103143Z
LAST-MODIFIED:20240516T103143Z
UID:10002458-1712966400-1713052799@skybluetavern.com
SUMMARY:Birmingham City Vs Coventry City Away Day Travel Saturday 13th April 3pm KO
DESCRIPTION:Join us at the Sky Blue Tavern for coach travel as Coventry City face Birmingham City \nClick to book \n  \n  \n 
URL:https://skybluetavern.com/event/birmingham-city-vs-coventry-city-away-day-travel-saturday-13th-april-3pm-ko-2/
LOCATION:Sky Blue Tavern\, Hertford Pl\, Coventry\, CV1 3JZ\, United Kingdom
CATEGORIES:Away Day Travel,Football
ATTACH;FMTTYPE=image/png:https://skybluetavern.com/wp-content/uploads/2022/08/sky-blue-tavern-logo.png
ORGANIZER;CN="Sky Blue Tavern":MAILTO:hello@skybluetavern.com
END:VEVENT
BEGIN:VEVENT
DTSTART;TZID=Europe/London:20240413T200000
DTEND;TZID=Europe/London:20240413T200000
DTSTAMP:20260422T173524
CREATED:20230824T125946Z
LAST-MODIFIED:20230824T125946Z
UID:10000717-1713038400-1713038400@skybluetavern.com
SUMMARY:Karaoke & DJ Nights - Every Saturday
DESCRIPTION:Join us at the Sky Blue Tavern every Saturday night for Karaoke with DJ Julian Goode! \n  \n 
URL:https://skybluetavern.com/event/karaoke-dj-nights-every-saturday/2024-04-13/
LOCATION:Sky Blue Tavern\, Hertford Pl\, Coventry\, CV1 3JZ\, United Kingdom
CATEGORIES:Football,Music
ATTACH;FMTTYPE=image/png:https://skybluetavern.com/wp-content/uploads/2023/08/Karaoke-SBT.png
ORGANIZER;CN="Sky Blue Tavern":MAILTO:hello@skybluetavern.com
END:VEVENT
BEGIN:VEVENT
DTSTART;TZID=Europe/London:20240420T200000
DTEND;TZID=Europe/London:20240420T200000
DTSTAMP:20260422T173524
CREATED:20230824T125946Z
LAST-MODIFIED:20230824T125946Z
UID:10000718-1713643200-1713643200@skybluetavern.com
SUMMARY:Karaoke & DJ Nights - Every Saturday
DESCRIPTION:Join us at the Sky Blue Tavern every Saturday night for Karaoke with DJ Julian Goode! \n  \n 
URL:https://skybluetavern.com/event/karaoke-dj-nights-every-saturday/2024-04-20/
LOCATION:Sky Blue Tavern\, Hertford Pl\, Coventry\, CV1 3JZ\, United Kingdom
CATEGORIES:Football,Music
ATTACH;FMTTYPE=image/png:https://skybluetavern.com/wp-content/uploads/2023/08/Karaoke-SBT.png
ORGANIZER;CN="Sky Blue Tavern":MAILTO:hello@skybluetavern.com
END:VEVENT
BEGIN:VEVENT
DTSTART;VALUE=DATE:20240421
DTEND;VALUE=DATE:20240422
DTSTAMP:20260422T173524
CREATED:20240516T103249Z
LAST-MODIFIED:20240516T103249Z
UID:10002459-1713657600-1713743999@skybluetavern.com
SUMMARY:Coventry City V Manchester Utd FA Cup Semi Final Awayday travel
DESCRIPTION:Join us at the Sky Blue Tavern for coach travel as Coventry City face Manchester United in the FA Cup semi final match at Wembley!! \n\nDate may change to Sunday 21st. Your ticket will still be valid\n\nClick to book\n  \n  \n 
URL:https://skybluetavern.com/event/coventry-city-v-manchester-utd-fa-cup-semi-final-awayday-travel/
LOCATION:Sky Blue Tavern\, Hertford Pl\, Coventry\, CV1 3JZ\, United Kingdom
CATEGORIES:Away Day Travel,Football
ATTACH;FMTTYPE=image/png:https://skybluetavern.com/wp-content/uploads/2022/08/sky-blue-tavern-logo.png
ORGANIZER;CN="Sky Blue Tavern":MAILTO:hello@skybluetavern.com
END:VEVENT
BEGIN:VEVENT
DTSTART;TZID=Europe/London:20240425T190000
DTEND;TZID=Europe/London:20240425T220000
DTSTAMP:20260422T173524
CREATED:20240516T103511Z
LAST-MODIFIED:20240516T103511Z
UID:10002460-1714071600-1714082400@skybluetavern.com
SUMMARY:A Question of Sport at the Sky Blue Tavern
DESCRIPTION:Grab your mates and form a team of up to 6 people\, or apply on your own and try your luck with other sports enthusiasts \nFollowing the much loved BBC show\, compete in fan favourite rounds such as the Picture Board round\, the Buzzer Round & Sprint Finish \nThe aim is simple\, rack up the most points throughout the game and you’ll be awarded the winner\, trophy and all! £50 cash is award to the winner! \nThis one is bound to sell out so get your tickets now!
URL:https://skybluetavern.com/event/a-question-of-sport-at-the-sky-blue-tavern-5/
LOCATION:Sky Blue Tavern\, Hertford Pl\, Coventry\, CV1 3JZ\, United Kingdom
CATEGORIES:Football,Quiz
ATTACH;FMTTYPE=image/png:https://skybluetavern.com/wp-content/uploads/2024/05/Question-of-sport.png
ORGANIZER;CN="Sky Blue Tavern":MAILTO:hello@skybluetavern.com
END:VEVENT
BEGIN:VEVENT
DTSTART;VALUE=DATE:20240427
DTEND;VALUE=DATE:20240428
DTSTAMP:20260422T173524
CREATED:20240516T103609Z
LAST-MODIFIED:20240516T103609Z
UID:10002461-1714176000-1714262399@skybluetavern.com
SUMMARY:Blackburn Rovers Vs Coventry City Away Day Travel Saturday 27th April 3pm KO
DESCRIPTION:Join us at the Sky Blue Tavern for coach travel as Coventry City face Blackburn Rovers \nClick to book\n  \n  \n 
URL:https://skybluetavern.com/event/blackburn-rovers-vs-coventry-city-away-day-travel-saturday-27th-april-3pm-ko-2/
LOCATION:Sky Blue Tavern\, Hertford Pl\, Coventry\, CV1 3JZ\, United Kingdom
CATEGORIES:Away Day Travel,Football
ATTACH;FMTTYPE=image/png:https://skybluetavern.com/wp-content/uploads/2022/08/sky-blue-tavern-logo.png
ORGANIZER;CN="Sky Blue Tavern":MAILTO:hello@skybluetavern.com
END:VEVENT
BEGIN:VEVENT
DTSTART;TZID=Europe/London:20240427T200000
DTEND;TZID=Europe/London:20240427T200000
DTSTAMP:20260422T173524
CREATED:20230824T125946Z
LAST-MODIFIED:20230824T125946Z
UID:10000719-1714248000-1714248000@skybluetavern.com
SUMMARY:Karaoke & DJ Nights - Every Saturday
DESCRIPTION:Join us at the Sky Blue Tavern every Saturday night for Karaoke with DJ Julian Goode! \n  \n 
URL:https://skybluetavern.com/event/karaoke-dj-nights-every-saturday/2024-04-27/
LOCATION:Sky Blue Tavern\, Hertford Pl\, Coventry\, CV1 3JZ\, United Kingdom
CATEGORIES:Football,Music
ATTACH;FMTTYPE=image/png:https://skybluetavern.com/wp-content/uploads/2023/08/Karaoke-SBT.png
ORGANIZER;CN="Sky Blue Tavern":MAILTO:hello@skybluetavern.com
END:VEVENT
END:VCALENDAR