BEGIN:VCALENDAR
VERSION:2.0
PRODID:-//Sky Blue Tavern - ECPv6.15.18//NONSGML v1.0//EN
CALSCALE:GREGORIAN
METHOD:PUBLISH
X-ORIGINAL-URL:https://skybluetavern.com
X-WR-CALDESC:Events for Sky Blue Tavern
REFRESH-INTERVAL;VALUE=DURATION:PT1H
X-Robots-Tag:noindex
X-PUBLISHED-TTL:PT1H
BEGIN:VTIMEZONE
TZID:Europe/London
BEGIN:DAYLIGHT
TZOFFSETFROM:+0000
TZOFFSETTO:+0100
TZNAME:BST
DTSTART:20230326T010000
END:DAYLIGHT
BEGIN:STANDARD
TZOFFSETFROM:+0100
TZOFFSETTO:+0000
TZNAME:GMT
DTSTART:20231029T010000
END:STANDARD
BEGIN:DAYLIGHT
TZOFFSETFROM:+0000
TZOFFSETTO:+0100
TZNAME:BST
DTSTART:20240331T010000
END:DAYLIGHT
BEGIN:STANDARD
TZOFFSETFROM:+0100
TZOFFSETTO:+0000
TZNAME:GMT
DTSTART:20241027T010000
END:STANDARD
BEGIN:DAYLIGHT
TZOFFSETFROM:+0000
TZOFFSETTO:+0100
TZNAME:BST
DTSTART:20250330T010000
END:DAYLIGHT
BEGIN:STANDARD
TZOFFSETFROM:+0100
TZOFFSETTO:+0000
TZNAME:GMT
DTSTART:20251026T010000
END:STANDARD
END:VTIMEZONE
BEGIN:VEVENT
DTSTART;TZID=Europe/London:20240101T150000
DTEND;TZID=Europe/London:20240101T180000
DTSTAMP:20260422T224451
CREATED:20230717T134547Z
LAST-MODIFIED:20231019T135003Z
UID:10000675-1704121200-1704132000@skybluetavern.com
SUMMARY:Middlesbrough VS Coventry City January 1st 15:00 KO
DESCRIPTION:Join us at the Sky Blue Tavern as Coventry City travel to face Middlesbrough once again\, Coventry will be looking for a repeat of the last visit to The Riverside Stadium \nClick to book
URL:https://skybluetavern.com/event/middlesbrough-vs-coventry-city-january-1st-1500-ko/
LOCATION:Sky Blue Tavern\, Hertford Pl\, Coventry\, CV1 3JZ\, United Kingdom
CATEGORIES:Away Day Travel,Football
ATTACH;FMTTYPE=image/jpeg:https://skybluetavern.com/wp-content/uploads/2023/07/middlesbrough.jpg
ORGANIZER;CN="Sky Blue Tavern":MAILTO:hello@skybluetavern.com
END:VEVENT
BEGIN:VEVENT
DTSTART;TZID=Europe/London:20240102T193000
DTEND;TZID=Europe/London:20240102T210000
DTSTAMP:20260422T224451
CREATED:20230824T130315Z
LAST-MODIFIED:20230824T130315Z
UID:10001225-1704223800-1704229200@skybluetavern.com
SUMMARY:Quiz Night at Sky Blue Tavern - Every Tuesday
DESCRIPTION:Join us at the Sky Blue Tavern for quiz night every Tuesday for the chance to win cash prizes! \n  \n 
URL:https://skybluetavern.com/event/quiz-night-at-sky-blue-tavern-every-tuesday/2024-01-02/
LOCATION:Sky Blue Tavern\, Hertford Pl\, Coventry\, CV1 3JZ\, United Kingdom
CATEGORIES:Quiz
ATTACH;FMTTYPE=image/png:https://skybluetavern.com/wp-content/uploads/2023/08/Sky-Blue-Tavern-Quiz-Night-2.png
ORGANIZER;CN="Sky Blue Tavern":MAILTO:hello@skybluetavern.com
END:VEVENT
BEGIN:VEVENT
DTSTART;TZID=Europe/London:20240103T190000
DTEND;TZID=Europe/London:20240103T220000
DTSTAMP:20260422T224451
CREATED:20231110T181706Z
LAST-MODIFIED:20231110T182014Z
UID:10002268-1704308400-1704319200@skybluetavern.com
SUMMARY:A Question of Sport at the Sky Blue Tavern
DESCRIPTION:Grab your mates and form a team of up to 6 people\, or apply on your own and try your luck with other sports enthusiasts \nFollowing the much loved BBC show\, compete in fan favourite rounds such as the Picture Board round\, the Buzzer Round & Sprint Finish \nThe aim is simple\, rack up the most points throughout the game and you’ll be awarded the winner\, trophy and all! £50 cash is award to the winner! \nThis one is bound to sell out so get your tickets now!
URL:https://skybluetavern.com/event/a-question-of-sport-at-the-sky-blue-tavern-2/
LOCATION:Sky Blue Tavern\, Hertford Pl\, Coventry\, CV1 3JZ\, United Kingdom
CATEGORIES:Football,Quiz
ATTACH;FMTTYPE=image/png:https://skybluetavern.com/wp-content/uploads/2023/11/Question-of-sport.png
ORGANIZER;CN="Sky Blue Tavern":MAILTO:hello@skybluetavern.com
END:VEVENT
BEGIN:VEVENT
DTSTART;TZID=Europe/London:20240106T200000
DTEND;TZID=Europe/London:20240106T200000
DTSTAMP:20260422T224451
CREATED:20230824T125946Z
LAST-MODIFIED:20230824T125946Z
UID:10000703-1704571200-1704571200@skybluetavern.com
SUMMARY:Karaoke & DJ Nights - Every Saturday
DESCRIPTION:Join us at the Sky Blue Tavern every Saturday night for Karaoke with DJ Julian Goode! \n  \n 
URL:https://skybluetavern.com/event/karaoke-dj-nights-every-saturday/2024-01-06/
LOCATION:Sky Blue Tavern\, Hertford Pl\, Coventry\, CV1 3JZ\, United Kingdom
CATEGORIES:Football,Music
ATTACH;FMTTYPE=image/png:https://skybluetavern.com/wp-content/uploads/2023/08/Karaoke-SBT.png
ORGANIZER;CN="Sky Blue Tavern":MAILTO:hello@skybluetavern.com
END:VEVENT
BEGIN:VEVENT
DTSTART;TZID=Europe/London:20240109T193000
DTEND;TZID=Europe/London:20240109T210000
DTSTAMP:20260422T224451
CREATED:20230824T130315Z
LAST-MODIFIED:20230824T130315Z
UID:10001226-1704828600-1704834000@skybluetavern.com
SUMMARY:Quiz Night at Sky Blue Tavern - Every Tuesday
DESCRIPTION:Join us at the Sky Blue Tavern for quiz night every Tuesday for the chance to win cash prizes! \n  \n 
URL:https://skybluetavern.com/event/quiz-night-at-sky-blue-tavern-every-tuesday/2024-01-09/
LOCATION:Sky Blue Tavern\, Hertford Pl\, Coventry\, CV1 3JZ\, United Kingdom
CATEGORIES:Quiz
ATTACH;FMTTYPE=image/png:https://skybluetavern.com/wp-content/uploads/2023/08/Sky-Blue-Tavern-Quiz-Night-2.png
ORGANIZER;CN="Sky Blue Tavern":MAILTO:hello@skybluetavern.com
END:VEVENT
BEGIN:VEVENT
DTSTART;TZID=Europe/London:20240113T200000
DTEND;TZID=Europe/London:20240113T200000
DTSTAMP:20260422T224451
CREATED:20230824T125946Z
LAST-MODIFIED:20230824T125946Z
UID:10000704-1705176000-1705176000@skybluetavern.com
SUMMARY:Karaoke & DJ Nights - Every Saturday
DESCRIPTION:Join us at the Sky Blue Tavern every Saturday night for Karaoke with DJ Julian Goode! \n  \n 
URL:https://skybluetavern.com/event/karaoke-dj-nights-every-saturday/2024-01-13/
LOCATION:Sky Blue Tavern\, Hertford Pl\, Coventry\, CV1 3JZ\, United Kingdom
CATEGORIES:Football,Music
ATTACH;FMTTYPE=image/png:https://skybluetavern.com/wp-content/uploads/2023/08/Karaoke-SBT.png
ORGANIZER;CN="Sky Blue Tavern":MAILTO:hello@skybluetavern.com
END:VEVENT
BEGIN:VEVENT
DTSTART;TZID=Europe/London:20240120T150000
DTEND;TZID=Europe/London:20240120T180000
DTSTAMP:20260422T224451
CREATED:20230814T131618Z
LAST-MODIFIED:20231107T160136Z
UID:10000681-1705762800-1705773600@skybluetavern.com
SUMMARY:Sheffield Wednesday Vs Coventry City away day coach travel
DESCRIPTION:Coach travel for Coventry V Sheffield \nClick to book
URL:https://skybluetavern.com/event/sheffield-wednesday-vs-coventry-city-away-day-coach-travel/
LOCATION:Sky Blue Tavern\, Hertford Pl\, Coventry\, CV1 3JZ\, United Kingdom
CATEGORIES:Away Day Travel,Football
ATTACH;FMTTYPE=image/jpeg:https://skybluetavern.com/wp-content/uploads/2023/08/sheffield-wed.jpg
ORGANIZER;CN="Sky Blue Tavern":MAILTO:hello@skybluetavern.com
END:VEVENT
BEGIN:VEVENT
DTSTART;TZID=Europe/London:20240120T200000
DTEND;TZID=Europe/London:20240120T200000
DTSTAMP:20260422T224451
CREATED:20230824T125946Z
LAST-MODIFIED:20230824T125946Z
UID:10000705-1705780800-1705780800@skybluetavern.com
SUMMARY:Karaoke & DJ Nights - Every Saturday
DESCRIPTION:Join us at the Sky Blue Tavern every Saturday night for Karaoke with DJ Julian Goode! \n  \n 
URL:https://skybluetavern.com/event/karaoke-dj-nights-every-saturday/2024-01-20/
LOCATION:Sky Blue Tavern\, Hertford Pl\, Coventry\, CV1 3JZ\, United Kingdom
CATEGORIES:Football,Music
ATTACH;FMTTYPE=image/png:https://skybluetavern.com/wp-content/uploads/2023/08/Karaoke-SBT.png
ORGANIZER;CN="Sky Blue Tavern":MAILTO:hello@skybluetavern.com
END:VEVENT
BEGIN:VEVENT
DTSTART;TZID=Europe/London:20240127T200000
DTEND;TZID=Europe/London:20240127T200000
DTSTAMP:20260422T224451
CREATED:20230824T125946Z
LAST-MODIFIED:20230824T125946Z
UID:10000706-1706385600-1706385600@skybluetavern.com
SUMMARY:Karaoke & DJ Nights - Every Saturday
DESCRIPTION:Join us at the Sky Blue Tavern every Saturday night for Karaoke with DJ Julian Goode! \n  \n 
URL:https://skybluetavern.com/event/karaoke-dj-nights-every-saturday/2024-01-27/
LOCATION:Sky Blue Tavern\, Hertford Pl\, Coventry\, CV1 3JZ\, United Kingdom
CATEGORIES:Football,Music
ATTACH;FMTTYPE=image/png:https://skybluetavern.com/wp-content/uploads/2023/08/Karaoke-SBT.png
ORGANIZER;CN="Sky Blue Tavern":MAILTO:hello@skybluetavern.com
END:VEVENT
END:VCALENDAR