BEGIN:VCALENDAR
VERSION:2.0
PRODID:-//Sky Blue Tavern - ECPv6.15.18//NONSGML v1.0//EN
CALSCALE:GREGORIAN
METHOD:PUBLISH
X-ORIGINAL-URL:https://skybluetavern.com
X-WR-CALDESC:Events for Sky Blue Tavern
REFRESH-INTERVAL;VALUE=DURATION:PT1H
X-Robots-Tag:noindex
X-PUBLISHED-TTL:PT1H
BEGIN:VTIMEZONE
TZID:Europe/London
BEGIN:DAYLIGHT
TZOFFSETFROM:+0000
TZOFFSETTO:+0100
TZNAME:BST
DTSTART:20220327T010000
END:DAYLIGHT
BEGIN:STANDARD
TZOFFSETFROM:+0100
TZOFFSETTO:+0000
TZNAME:GMT
DTSTART:20221030T010000
END:STANDARD
BEGIN:DAYLIGHT
TZOFFSETFROM:+0000
TZOFFSETTO:+0100
TZNAME:BST
DTSTART:20230326T010000
END:DAYLIGHT
BEGIN:STANDARD
TZOFFSETFROM:+0100
TZOFFSETTO:+0000
TZNAME:GMT
DTSTART:20231029T010000
END:STANDARD
BEGIN:DAYLIGHT
TZOFFSETFROM:+0000
TZOFFSETTO:+0100
TZNAME:BST
DTSTART:20240331T010000
END:DAYLIGHT
BEGIN:STANDARD
TZOFFSETFROM:+0100
TZOFFSETTO:+0000
TZNAME:GMT
DTSTART:20241027T010000
END:STANDARD
END:VTIMEZONE
BEGIN:VEVENT
DTSTART;TZID=Europe/London:20230806T120000
DTEND;TZID=Europe/London:20230806T160000
DTSTAMP:20260423T071233
CREATED:20230630T124906Z
LAST-MODIFIED:20230630T124906Z
UID:10000646-1691323200-1691337600@skybluetavern.com
SUMMARY:Leicester City vs Coventry City -  6th August  KO 12:00
DESCRIPTION:Join us as the championship kicks off with a rival match vs Leicester City on the 6th August at 12:00 \nClick to book ?? https://www.opentable.co.uk/r/sky-blue-tavern-coventry \n  \n  \n 
URL:https://skybluetavern.com/event/leicester-city-vs-coventry-city-ko-1200/
LOCATION:Sky Blue Tavern\, Hertford Pl\, Coventry\, CV1 3JZ\, United Kingdom
CATEGORIES:Football
ATTACH;FMTTYPE=image/png:https://skybluetavern.com/wp-content/uploads/2022/08/sky-blue-tavern-logo.png
ORGANIZER;CN="Sky Blue Tavern":MAILTO:hello@skybluetavern.com
END:VEVENT
BEGIN:VEVENT
DTSTART;VALUE=DATE:20230808
DTEND;VALUE=DATE:20230809
DTSTAMP:20260423T071233
CREATED:20230630T130102Z
LAST-MODIFIED:20230630T130102Z
UID:10000647-1691452800-1691539199@skybluetavern.com
SUMMARY:Coventry City Vs AFC Wimbledon EFL Cup 8th August
DESCRIPTION:Book a table with us to watch Coventry City take on AFC Wimbledon in the first cup game of the season \nClick to book ?? https://www.opentable.co.uk/r/sky-blue-tavern-coventry \n  \n  \n 
URL:https://skybluetavern.com/event/coventry-city-vs-afc-wimbledon-efl-cup-8th-august/
LOCATION:Sky Blue Tavern\, Hertford Pl\, Coventry\, CV1 3JZ\, United Kingdom
CATEGORIES:Football
ATTACH;FMTTYPE=image/png:https://skybluetavern.com/wp-content/uploads/2022/08/sky-blue-tavern-logo.png
ORGANIZER;CN="Sky Blue Tavern":MAILTO:hello@skybluetavern.com
END:VEVENT
BEGIN:VEVENT
DTSTART;TZID=Europe/London:20230812T080000
DTEND;TZID=Europe/London:20230812T080000
DTSTAMP:20260423T071233
CREATED:20230803T103250Z
LAST-MODIFIED:20230803T142324Z
UID:10000680-1691827200-1691827200@skybluetavern.com
SUMMARY:CCFC vs Middlesbrough Shuttle Bus - 12PM Kick-off
DESCRIPTION:Book the Sky Blue Tavern to Dhillon’s Brewery shuttle bus  \nSky Blue Tavern to Dhillon’s Shuttle Times:\n– 10:00\n– 11:00 \nDhillon’s Brewery to Sky Blue Tavern return shuttle time:\n– 17:00\n– 18:00 \nClick here to book
URL:https://skybluetavern.com/event/ccfc-vs-middlesbrough-shuttle-bus-12pm-kick-off/
LOCATION:Sky Blue Tavern\, Hertford Pl\, Coventry\, CV1 3JZ\, United Kingdom
CATEGORIES:Football
ATTACH;FMTTYPE=image/jpeg:https://skybluetavern.com/wp-content/uploads/2023/08/eventbrite.jpg
ORGANIZER;CN="Sky Blue Tavern":MAILTO:hello@skybluetavern.com
END:VEVENT
BEGIN:VEVENT
DTSTART;TZID=Europe/London:20230812T120000
DTEND;TZID=Europe/London:20230812T160000
DTSTAMP:20260423T071233
CREATED:20230630T131553Z
LAST-MODIFIED:20230717T133941Z
UID:10000648-1691841600-1691856000@skybluetavern.com
SUMMARY:Coventry City Vs Middlesbrough 12th August KO 12:30
DESCRIPTION:Book a table with us to watch Coventry City take on Middlesbrough on the 12th August at 12:30 \nClick to book ?? https://www.opentable.co.uk/r/sky-blue-tavern-coventry \n  \n  \n 
URL:https://skybluetavern.com/event/coventry-city-vs-middlesbrough-12th-august-ko-1230/
LOCATION:Sky Blue Tavern\, Hertford Pl\, Coventry\, CV1 3JZ\, United Kingdom
CATEGORIES:Football
ATTACH;FMTTYPE=image/png:https://skybluetavern.com/wp-content/uploads/2022/08/sky-blue-tavern-logo.png
ORGANIZER;CN="Sky Blue Tavern":MAILTO:hello@skybluetavern.com
END:VEVENT
BEGIN:VEVENT
DTSTART;TZID=Europe/London:20230819T150000
DTEND;TZID=Europe/London:20230819T190000
DTSTAMP:20260423T071233
CREATED:20230630T133444Z
LAST-MODIFIED:20230717T134237Z
UID:10000649-1692457200-1692471600@skybluetavern.com
SUMMARY:Swansea Vs Coventry City 19th August KO 15:00
DESCRIPTION:Join us as Coventry City go on the road to take on Swansea on the 19th August KO 15:00 \nClick to book ?? https://www.opentable.co.uk/r/sky-blue-tavern-coventry \n  \n  \n 
URL:https://skybluetavern.com/event/swansea-vs-coventry-city-19th-august-ko-1500/
LOCATION:Sky Blue Tavern\, Hertford Pl\, Coventry\, CV1 3JZ\, United Kingdom
CATEGORIES:Football
ATTACH;FMTTYPE=image/png:https://skybluetavern.com/wp-content/uploads/2022/08/sky-blue-tavern-logo.png
ORGANIZER;CN="Sky Blue Tavern":MAILTO:hello@skybluetavern.com
END:VEVENT
BEGIN:VEVENT
DTSTART;TZID=Europe/London:20230826T120000
DTEND;TZID=Europe/London:20230826T190000
DTSTAMP:20260423T071233
CREATED:20230824T125456Z
LAST-MODIFIED:20230824T125456Z
UID:10000682-1693051200-1693076400@skybluetavern.com
SUMMARY:CCFC vs Sunderland Shuttle Bus - 3PM Kick-off
DESCRIPTION:Book the Sky Blue Tavern to Dhillon’s Brewery shuttle bus  \nSky Blue Tavern to Dhillon’s Shuttle Times:\n– 12:00pm\n– 1:00pm \nDhillon’s Brewery to Sky Blue Tavern return shuttle time:\n– 6:00pm\n– 7:00pm \nClick here to book
URL:https://skybluetavern.com/event/ccfc-vs-sunderland-shuttle-bus-3pm-kick-off/
LOCATION:Sky Blue Tavern\, Hertford Pl\, Coventry\, CV1 3JZ\, United Kingdom
CATEGORIES:Football
ATTACH;FMTTYPE=image/jpeg:https://skybluetavern.com/wp-content/uploads/2023/08/eventbrite.jpg
ORGANIZER;CN="Sky Blue Tavern":MAILTO:hello@skybluetavern.com
END:VEVENT
BEGIN:VEVENT
DTSTART;TZID=Europe/London:20230826T150000
DTEND;TZID=Europe/London:20230826T190000
DTSTAMP:20260423T071233
CREATED:20230630T150359Z
LAST-MODIFIED:20230717T134209Z
UID:10000650-1693062000-1693076400@skybluetavern.com
SUMMARY:Coventry City Vs Sunderland  26th august KO 15:00
DESCRIPTION:Come down to the Sky Blue Tavern to watch Coventry City take on Sunderland \nClick to book ?? https://www.opentable.co.uk/r/sky-blue-tavern-coventry \n  \n  \n 
URL:https://skybluetavern.com/event/coventry-city-vs-sunderland-26th-august-ko-1500/
LOCATION:Sky Blue Tavern\, Hertford Pl\, Coventry\, CV1 3JZ\, United Kingdom
CATEGORIES:Football
ATTACH;FMTTYPE=image/png:https://skybluetavern.com/wp-content/uploads/2022/08/sky-blue-tavern-logo.png
ORGANIZER;CN="Sky Blue Tavern":MAILTO:hello@skybluetavern.com
END:VEVENT
BEGIN:VEVENT
DTSTART;TZID=Europe/London:20230826T200000
DTEND;TZID=Europe/London:20230826T200000
DTSTAMP:20260423T071233
CREATED:20230824T125946Z
LAST-MODIFIED:20230824T125946Z
UID:10000684-1693080000-1693080000@skybluetavern.com
SUMMARY:Karaoke & DJ Nights - Every Saturday
DESCRIPTION:Join us at the Sky Blue Tavern every Saturday night for Karaoke with DJ Julian Goode! \n  \n 
URL:https://skybluetavern.com/event/karaoke-dj-nights-every-saturday/2023-08-26/
LOCATION:Sky Blue Tavern\, Hertford Pl\, Coventry\, CV1 3JZ\, United Kingdom
CATEGORIES:Football,Music
ATTACH;FMTTYPE=image/png:https://skybluetavern.com/wp-content/uploads/2023/08/Karaoke-SBT.png
ORGANIZER;CN="Sky Blue Tavern":MAILTO:hello@skybluetavern.com
END:VEVENT
BEGIN:VEVENT
DTSTART;TZID=Europe/London:20230829T193000
DTEND;TZID=Europe/London:20230829T210000
DTSTAMP:20260423T071233
CREATED:20230824T130315Z
LAST-MODIFIED:20230824T130315Z
UID:10001207-1693337400-1693342800@skybluetavern.com
SUMMARY:Quiz Night at Sky Blue Tavern - Every Tuesday
DESCRIPTION:Join us at the Sky Blue Tavern for quiz night every Tuesday for the chance to win cash prizes! \n  \n 
URL:https://skybluetavern.com/event/quiz-night-at-sky-blue-tavern-every-tuesday/2023-08-29/
LOCATION:Sky Blue Tavern\, Hertford Pl\, Coventry\, CV1 3JZ\, United Kingdom
CATEGORIES:Quiz
ATTACH;FMTTYPE=image/png:https://skybluetavern.com/wp-content/uploads/2023/08/Sky-Blue-Tavern-Quiz-Night-2.png
ORGANIZER;CN="Sky Blue Tavern":MAILTO:hello@skybluetavern.com
END:VEVENT
END:VCALENDAR